BEGIN:VCALENDAR
VERSION:2.0
PRODID:-//Maryland Fraternal Order of Police | MD FOP - ECPv5.8.0//NONSGML v1.0//EN
CALSCALE:GREGORIAN
METHOD:PUBLISH
X-WR-CALNAME:Maryland Fraternal Order of Police | MD FOP
X-ORIGINAL-URL:https://mdstatefop.org
X-WR-CALDESC:Events for Maryland Fraternal Order of Police | MD FOP
BEGIN:VTIMEZONE
TZID:America/New_York
BEGIN:DAYLIGHT
TZOFFSETFROM:-0500
TZOFFSETTO:-0400
TZNAME:EDT
DTSTART:20160313T070000
END:DAYLIGHT
BEGIN:STANDARD
TZOFFSETFROM:-0400
TZOFFSETTO:-0500
TZNAME:EST
DTSTART:20161106T060000
END:STANDARD
END:VTIMEZONE
BEGIN:VEVENT
DTSTART;TZID=America/New_York:20160406T073000
DTEND;TZID=America/New_York:20160406T110000
DTSTAMP:20260420T121231
CREATED:20160406T223420Z
LAST-MODIFIED:20160406T223420Z
UID:1157-1459927800-1459940400@mdstatefop.org
SUMMARY:3rd Annual Officer Michael S. Nickerson Memorial  Sporting Clay Classic
DESCRIPTION:
URL:https://mdstatefop.org/event/3rd-annual-officer-michael-s-nickerson-memorial-sporting-clay-classic/
LOCATION:Delmarva Sporting Clays and Rifle Range\, 23501 Marsh Rd\, Mardela Springs\, 21837\, United States
ORGANIZER;CN="MDCOPS":MAILTO:copsclayclassic@gmail.com
END:VEVENT
END:VCALENDAR