BEGIN:VCALENDAR
VERSION:2.0
PRODID:-//Maryland Fraternal Order of Police | MD FOP - ECPv5.8.0//NONSGML v1.0//EN
CALSCALE:GREGORIAN
METHOD:PUBLISH
X-WR-CALNAME:Maryland Fraternal Order of Police | MD FOP
X-ORIGINAL-URL:https://mdstatefop.org
X-WR-CALDESC:Events for Maryland Fraternal Order of Police | MD FOP
BEGIN:VTIMEZONE
TZID:America/New_York
BEGIN:DAYLIGHT
TZOFFSETFROM:-0500
TZOFFSETTO:-0400
TZNAME:EDT
DTSTART:20170312T070000
END:DAYLIGHT
BEGIN:STANDARD
TZOFFSETFROM:-0400
TZOFFSETTO:-0500
TZNAME:EST
DTSTART:20171105T060000
END:STANDARD
END:VTIMEZONE
BEGIN:VEVENT
DTSTART;TZID=America/New_York:20170909T080000
DTEND;TZID=America/New_York:20170909T170000
DTSTAMP:20260420T012703
CREATED:20170817T002437Z
LAST-MODIFIED:20170817T002437Z
UID:1271-1504944000-1504976400@mdstatefop.org
SUMMARY:Brian Heller Memorial Classic
DESCRIPTION:
URL:https://mdstatefop.org/event/brian-heller-memorial-classic/
LOCATION:Salisbury Gun Club\, 32240 Dagsboro Rd\, Salisbury\, MD\, 21801\, United States
END:VEVENT
END:VCALENDAR