BEGIN:VCALENDAR
VERSION:2.0
PRODID:-//Maryland Fraternal Order of Police | MD FOP - ECPv5.8.0//NONSGML v1.0//EN
CALSCALE:GREGORIAN
METHOD:PUBLISH
X-WR-CALNAME:Maryland Fraternal Order of Police | MD FOP
X-ORIGINAL-URL:https://mdstatefop.org
X-WR-CALDESC:Events for Maryland Fraternal Order of Police | MD FOP
BEGIN:VTIMEZONE
TZID:America/New_York
BEGIN:DAYLIGHT
TZOFFSETFROM:-0500
TZOFFSETTO:-0400
TZNAME:EDT
DTSTART:20160313T070000
END:DAYLIGHT
BEGIN:STANDARD
TZOFFSETFROM:-0400
TZOFFSETTO:-0500
TZNAME:EST
DTSTART:20161106T060000
END:STANDARD
END:VTIMEZONE
BEGIN:VEVENT
DTSTART;TZID=America/New_York:20161015T110000
DTEND;TZID=America/New_York:20161015T150000
DTSTAMP:20260420T043937
CREATED:20160930T134214Z
LAST-MODIFIED:20160930T134214Z
UID:1181-1476529200-1476543600@mdstatefop.org
SUMMARY:KICK IT WITH COPS 2016 KICK BALL TOURNAMENT
DESCRIPTION:Sign up your FOP Team now! \nWe need volunteers and participants for this event.  The maximum number of kids will be 100 and the sign up will be first come\, first served.  We would like each participating lodge to bring three middle school-aged children along with one or two volunteers if possible.  Please volunteer even if you cannot bring kids\, we will even out the numbers.  If your lodge is financially able to sponsor your kids\, please let us know.  Please RSVP by September 26 so that we can get the shirt sizes for all participants.  Please call or email with any questions!  \nFood Provided by Chik fila \nTracy Lieberman\nC.O.P.S Chair\, FOP Lodge 30\nPublic Relations Committee Chair\, MD State Lodge
URL:https://mdstatefop.org/event/kick-cops-2016-kick-ball-tournament/
LOCATION:Fairland Sports Complex\, 13950 Old Gunpowder Road\, Laurel\, MD\, 20707\, United States
ORGANIZER;CN="Tracy%20Lieberman":MAILTO:stmichaelssquad@gmail.com
END:VEVENT
END:VCALENDAR