BEGIN:VCALENDAR
VERSION:2.0
PRODID:-//Maryland Fraternal Order of Police | MD FOP - ECPv5.8.0//NONSGML v1.0//EN
CALSCALE:GREGORIAN
METHOD:PUBLISH
X-WR-CALNAME:Maryland Fraternal Order of Police | MD FOP
X-ORIGINAL-URL:https://mdstatefop.org
X-WR-CALDESC:Events for Maryland Fraternal Order of Police | MD FOP
BEGIN:VTIMEZONE
TZID:America/New_York
BEGIN:DAYLIGHT
TZOFFSETFROM:-0500
TZOFFSETTO:-0400
TZNAME:EDT
DTSTART:20180311T070000
END:DAYLIGHT
BEGIN:STANDARD
TZOFFSETFROM:-0400
TZOFFSETTO:-0500
TZNAME:EST
DTSTART:20181104T060000
END:STANDARD
END:VTIMEZONE
BEGIN:VEVENT
DTSTART;TZID=America/New_York:20180921T080000
DTEND;TZID=America/New_York:20180921T170000
DTSTAMP:20260419T152835
CREATED:20180208T002724Z
LAST-MODIFIED:20180208T002724Z
UID:1292-1537516800-1537549200@mdstatefop.org
SUMMARY:Lodge 69 Golf Tournament
DESCRIPTION:
URL:https://mdstatefop.org/event/lodge-69-golf-tournament-2/
LOCATION:Fairway Hills Golf Club\, 5100 Columbia Rd\, Columbia\, MD\, 21044\, United States
END:VEVENT
END:VCALENDAR