BEGIN:VCALENDAR
VERSION:2.0
PRODID:-//Maryland Fraternal Order of Police | MD FOP - ECPv5.8.0//NONSGML v1.0//EN
CALSCALE:GREGORIAN
METHOD:PUBLISH
X-WR-CALNAME:Maryland Fraternal Order of Police | MD FOP
X-ORIGINAL-URL:https://mdstatefop.org
X-WR-CALDESC:Events for Maryland Fraternal Order of Police | MD FOP
BEGIN:VTIMEZONE
TZID:America/New_York
BEGIN:DAYLIGHT
TZOFFSETFROM:-0500
TZOFFSETTO:-0400
TZNAME:EDT
DTSTART:20170312T070000
END:DAYLIGHT
BEGIN:STANDARD
TZOFFSETFROM:-0400
TZOFFSETTO:-0500
TZNAME:EST
DTSTART:20171105T060000
END:STANDARD
END:VTIMEZONE
BEGIN:VEVENT
DTSTART;TZID=America/New_York:20170909T120000
DTEND;TZID=America/New_York:20170909T150000
DTSTAMP:20260419T233915
CREATED:20170817T003800Z
LAST-MODIFIED:20170817T004345Z
UID:1274-1504958400-1504969200@mdstatefop.org
SUMMARY:Maryland Football Hometown Heroes Day
DESCRIPTION:
URL:https://mdstatefop.org/event/maryland-football-hometown-heroes-day/
LOCATION:University of Maryland\, 90 Stadium Drive\, College Park\, MD\, 20742\, United States
ORGANIZER;CN="Kevin%20Hill":MAILTO:kevhill@umd.edu
END:VEVENT
END:VCALENDAR