BEGIN:VCALENDAR
VERSION:2.0
PRODID:-//Maryland Fraternal Order of Police | MD FOP - ECPv5.8.0//NONSGML v1.0//EN
CALSCALE:GREGORIAN
METHOD:PUBLISH
X-WR-CALNAME:Maryland Fraternal Order of Police | MD FOP
X-ORIGINAL-URL:https://mdstatefop.org
X-WR-CALDESC:Events for Maryland Fraternal Order of Police | MD FOP
BEGIN:VTIMEZONE
TZID:America/New_York
BEGIN:DAYLIGHT
TZOFFSETFROM:-0500
TZOFFSETTO:-0400
TZNAME:EDT
DTSTART:20150308T070000
END:DAYLIGHT
BEGIN:STANDARD
TZOFFSETFROM:-0400
TZOFFSETTO:-0500
TZNAME:EST
DTSTART:20151101T060000
END:STANDARD
END:VTIMEZONE
BEGIN:VEVENT
DTSTART;VALUE=DATE:20151106
DTEND;VALUE=DATE:20151108
DTSTAMP:20260420T170000
CREATED:20150815T221155Z
LAST-MODIFIED:20150815T221317Z
UID:1072-1446768000-1446940799@mdstatefop.org
SUMMARY:State Lodge Meeting
DESCRIPTION:
URL:https://mdstatefop.org/event/state-lodge-meeting/
LOCATION:Rocky Gap Resort & Casino\, 16701 Lakeview Rd\, Flintstone\, MD\, 21530\, United States
END:VEVENT
END:VCALENDAR